BEGIN:VCALENDAR
VERSION:2.0
PRODID:-//newcities - ECPv5.16.4//NONSGML v1.0//EN
CALSCALE:GREGORIAN
METHOD:PUBLISH
X-ORIGINAL-URL:https://www.newcities.de
X-WR-CALDESC:Veranstaltungen für newcities
REFRESH-INTERVAL;VALUE=DURATION:PT1H
X-Robots-Tag:noindex
X-PUBLISHED-TTL:PT1H
BEGIN:VTIMEZONE
TZID:Europe/Berlin
BEGIN:DAYLIGHT
TZOFFSETFROM:+0100
TZOFFSETTO:+0200
TZNAME:CEST
DTSTART:20210328T010000
END:DAYLIGHT
BEGIN:STANDARD
TZOFFSETFROM:+0200
TZOFFSETTO:+0100
TZNAME:CET
DTSTART:20211031T010000
END:STANDARD
END:VTIMEZONE
BEGIN:VEVENT
DTSTART;VALUE=DATE:20210504
DTEND;VALUE=DATE:20210505
DTSTAMP:20260423T103512
CREATED:20210205T105437Z
LAST-MODIFIED:20210211T133803Z
UID:5993-1620086400-1620172799@www.newcities.de
SUMMARY:Neue Podcastfolge von der Innovationskiste
DESCRIPTION:Es ist wieder so weit. Eine neue Folge der Innovationskiste kommt online.\nInno wer\, Inno was? Die Innovationskiste ist ein Podcast\, prall gefüllt mit wertvollen Methoden\, Strategien und Techniken rund um die Themen Stadtentwicklung und Ideen- und Innovationsmanagement. Die Moderatoren besprechen Herausforderungen und Lösungswege der Kommunalpolitik und diskutieren mit hochkarätigen Gästen über Erfolge und Tiefpunkte rund um das vielschichtige Thema Innovation. \nEinen Überblick über alle bisherigen Folge finden Sie hier.
URL:https://www.newcities.de/event/neue-podcastfolge-von-der-innovationskiste-3/
CATEGORIES:Podcast
ATTACH;FMTTYPE=image/jpeg:https://www.newcities.de/wp-content/uploads/2021/02/IMG_20210113_181152_460.jpg
END:VEVENT
BEGIN:VEVENT
DTSTART;VALUE=DATE:20210511
DTEND;VALUE=DATE:20210512
DTSTAMP:20260423T103512
CREATED:20210211T133352Z
LAST-MODIFIED:20210211T133352Z
UID:6254-1620691200-1620777599@www.newcities.de
SUMMARY:Neue Podcastfolge von der Innovationskiste
DESCRIPTION:Es ist wieder so weit. Eine neue Folge der Innovationskiste kommt online.\nInno wer\, Inno was? Die Innovationskiste ist ein Podcast\, prall gefüllt mit wertvollen Methoden\, Strategien und Techniken rund um die Themen Stadtentwicklung und Ideen- und Innovationsmanagement. Die Moderatoren besprechen Herausforderungen und Lösungswege der Kommunalpolitik und diskutieren mit hochkarätigen Gästen über Erfolge und Tiefpunkte rund um das vielschichtige Thema Innovation. \nEinen Überblick über alle bisherigen Folge finden Sie hier.
URL:https://www.newcities.de/event/neue-podcastfolge-von-der-innovationskiste-13/
END:VEVENT
BEGIN:VEVENT
DTSTART;VALUE=DATE:20210512
DTEND;VALUE=DATE:20210513
DTSTAMP:20260423T103512
CREATED:20210209T121948Z
LAST-MODIFIED:20210211T132032Z
UID:6058-1620777600-1620863999@www.newcities.de
SUMMARY:Veröffentlichung des neuen Magazinbeitrags
DESCRIPTION:Es ist wieder so weit. Ein neuer Magazinbeitrag kommt online.\nIn unserem Community Magazin finden Sie Informationen zu vielen wichtigen und spannenden Themen rund um Kommunen und Zukunftsmanagement. Schauen Sie ihn sich an und lassen Sie sich inspirieren. \nEinen Überblick über alle bisherigen Magazinbeiträge finden Sie hier.
URL:https://www.newcities.de/event/veroeffentlichung-des-neuen-magazinbeitrags-4/
CATEGORIES:Magazinbeitrag
END:VEVENT
BEGIN:VEVENT
DTSTART;TZID=Europe/Berlin:20210513T110000
DTEND;TZID=Europe/Berlin:20210513T130000
DTSTAMP:20260423T103512
CREATED:20210429T160808Z
LAST-MODIFIED:20210429T160808Z
UID:8417-1620903600-1620910800@www.newcities.de
SUMMARY:Onlineworkshop: Strukturwandel evidenzbasiert begegnen - Der richtige Weg für Ihre Kommune
DESCRIPTION:–> Zur Ticketbuchung <–\nDie nächsten Jahre stehen im Zeichen mehrerer Strukturwandelprozesse: Klimawandel\, Digitalisierung\, Mobilitätswende\, New Work und die Folgen der Pandemie bringen massive Veränderungen mit sich. Mit passenden und clever erhobenen Daten können sowohl die Richtung\, als auch die Intensität verschiedener Veränderungen für Ihre Kommune abgeschätzt und sichtbar gemacht werden. Ebenso kann damit beobachtet werden\, wie Wirtschaft und Gesellschaft sich auf den Wandel einstellen. So lassen sich frühzeitig passende Maßnahmen für eine effektive und sinnvolle Gestaltung Ihrer Kommune anstoßen. \nZiel\nIm kompakten Onlineworkshop erarbeiten wir über 2 Stunden gemeinsam Wege\, wie Sie dem Wandel in Ihrer Stadt oder Gemeinde evidenzbasiert begegnen können. \nThemen\nStrukturwandelprozesse und ihre Auswirkungen \nWie erkenne ich Auswirkungen auf meine Kommune frühzeitig? \nWelche Instrumente habe ich\, um den Folgen zu begegnen? \nModerator und Referent\nMoritz Meidert \nZielgruppe\n(Ober)Bürgermeister:innen\, Wirtschaftsfördernde\, Stadtentwickler:innen \nVorkenntnisse\nKeine Vorkenntnisse nötig. \nTeilnehmerzahl\n3 bis maximal 10 Teilnehmende \nEintritt\nEUR 199\,00 – zzgl. MwSt. \n–> Zur Ticketbuchung <–
URL:https://www.newcities.de/event/onlineworkshop-strukturwandel-evidenzbasiert-begegnen-der-richtige-weg-fuer-ihre-kommune/
LOCATION:Online via Zoom
CATEGORIES:Online,Workshop
ATTACH;FMTTYPE=image/jpeg:https://www.newcities.de/wp-content/uploads/2021/02/pexels-thisisengineering-3862370-scaled-e1613555655253.jpg
END:VEVENT
BEGIN:VEVENT
DTSTART;VALUE=DATE:20210518
DTEND;VALUE=DATE:20210519
DTSTAMP:20260423T103512
CREATED:20210211T134325Z
LAST-MODIFIED:20210211T134325Z
UID:6270-1621296000-1621382399@www.newcities.de
SUMMARY:Neue Podcastfolge von der Innovationskiste
DESCRIPTION:Es ist wieder so weit. Eine neue Folge der Innovationskiste kommt online.\nInno wer\, Inno was? Die Innovationskiste ist ein Podcast\, prall gefüllt mit wertvollen Methoden\, Strategien und Techniken rund um die Themen Stadtentwicklung und Ideen- und Innovationsmanagement. Die Moderatoren besprechen Herausforderungen und Lösungswege der Kommunalpolitik und diskutieren mit hochkarätigen Gästen über Erfolge und Tiefpunkte rund um das vielschichtige Thema Innovation. \nEinen Überblick über alle bisherigen Folge finden Sie hier.
URL:https://www.newcities.de/event/neue-podcastfolge-von-der-innovationskiste-14/
CATEGORIES:Podcast
END:VEVENT
BEGIN:VEVENT
DTSTART;TZID=Europe/Berlin:20210519T100000
DTEND;TZID=Europe/Berlin:20210519T120000
DTSTAMP:20260423T103512
CREATED:20210429T162242Z
LAST-MODIFIED:20210429T162242Z
UID:8427-1621418400-1621425600@www.newcities.de
SUMMARY:Onlineworkshop: What the fuck is „Lebensqualität“? - Bedürfnisse und Bedarfe der BürgerInnen begreifen
DESCRIPTION:–> Zur Ticketbuchung <–\nEine „hohe Lebensqualität“ ist der Wunsch der meisten BürgerInnen und das Ziel der meisten Gemeinderäte\, Verwaltungen und BürgermeisterInnen. Wie sieht hohe Lebensqualität aber aus? Jede Stadt und jede Gemeinde muss zu einer eigenen Definition und vor allem zu einer eigenen Konkretisierung dieser Definition finden. Das kann sowohl im Rahmen eines allgemeinen Strategieprozesses als auch bezogen auf einzelne Themen und Projekte erfolgen. Wichtig ist immer die passende Einbeziehung von BürgerInnen und Interessengruppen. \nZiel\nIm kompakten Onlineworkshop finden wir Lösungen und Vorgehensweisen\, um die Lebensqualität in Ihrer Kommune gemeinsam mit Ihren Bürger:innen zu thematisieren\, zu konkretisieren und zu verbessern. \nThemen\nWelche Lebensqualität wollen meine Bürger:innen eigentlich? \nWie kann ich konkrete Maßnahmen zur Verbesserung der Lebensqualität am besten anstoßen? \nGibt es einen größeren Rahmen\, in dem ich Lebensqualität thematisieren kann? \nModerator und Referent\nMoritz Meidert \nZielgruppe\n(Ober)Bürgermeister:innen\, Wirtschaftsfördernde\, Stadtentwickler:innen \nVorkenntnisse\nKeine Vorkenntnisse nötig. \nTeilnehmerzahl\n3 bis maximal 10 Teilnehmende \nEintritt\nEUR 199\,00 – zzgl. MwSt. \n–> Zur Ticketbuchung <–
URL:https://www.newcities.de/event/onlineworkshop-what-the-fuck-is-lebensqualitaet-beduerfnisse-und-bedarfe-der-buergerinnen-begreifen-2/
LOCATION:Online via Zoom
CATEGORIES:Online,Workshop
ATTACH;FMTTYPE=image/jpeg:https://www.newcities.de/wp-content/uploads/2020/11/hands-1947915-scaled-e1613561372731.jpg
END:VEVENT
BEGIN:VEVENT
DTSTART;TZID=Europe/Berlin:20210519T140000
DTEND;TZID=Europe/Berlin:20210519T153000
DTSTAMP:20260423T103512
CREATED:20210317T161409Z
LAST-MODIFIED:20210422T081542Z
UID:8092-1621432800-1621438200@www.newcities.de
SUMMARY:Webinar: Projekt- und Prozessregister
DESCRIPTION:Die Themen Onlinezugangsgesetz (OZG)\, DSGVO und Digitalisierung sind Ihnen sicher nicht fremd. Doch vielleicht fragen Sie sich\, wie Ihre Kommune mit diesen Themen künftig umgehen soll? Im Vergleich zur Industrie sind die Herausforderungen als kommunale Verwaltung hier um ein Vielfaches größer! Ihre Aufgabe für die kommenden Jahre ist es Transparenz in allen Verwaltungsprozessen zu schaffen\, die Digitalisierung voranzutreiben und zudem den oben genannten und vielen weiteren Gesetzen gerecht zu werden. \nWir\, die bamero AG\, sind ein Unternehmen aus Konstanz am schönen Bodensee und beschäftigen uns schon seit vielen Jahren mit dem Thema Prozessmanagement und Digitalisierung mit Kommunen aller Größen und in der Industrie. \nWir kennen Ihre Herausforderungen und haben es uns zur Aufgabe gemacht\, explizit Kommunen wie der Ihren zu helfen. Wir wollen gemeinsam mit Ihnen die Themen Verwaltungsprozesse- und Projekte mit neuen Lösungen strukturiert angehen. \n  \nWir zeigen Ihnen wie Ihre Kommune mithilfe eines Projekt- und Prozessregisters die Digitalisierung meistert!\nMelden Sie sich jetzt zu  unserem kostenfreien Webinar an\, bei dem wir Ihnen Möglichkeiten zur Erstellung eines professionellen Projekt- und Prozessregisters zeigen. \n>> Jetzt Platz reservieren <<
URL:https://www.newcities.de/event/webinar-projekt-und-prozessregister-2/
LOCATION:Online
CATEGORIES:Online,Webinar
ATTACH;FMTTYPE=image/jpeg:https://www.newcities.de/wp-content/uploads/2021/02/newcities_0121-1.jpg
ORGANIZER;CN="bamero":MAILTO:info@bamero.de
END:VEVENT
BEGIN:VEVENT
DTSTART;TZID=Europe/Berlin:20210520T150000
DTEND;TZID=Europe/Berlin:20210520T170000
DTSTAMP:20260423T103512
CREATED:20210429T155744Z
LAST-MODIFIED:20210429T155744Z
UID:8411-1621522800-1621530000@www.newcities.de
SUMMARY:Gründungs- und Innovationsförderung in Städte und Gemeinden unter 25.000 Einwohnern
DESCRIPTION:–> Zur Ticketbuchung <–\nIn Zeiten von wachsendem wirtschaftlichen Wandlungs- und Transformationsprozessen ist es wichtiger denn je die Themen Gründungsfreundlichkeit und Innovationsförderung als Kommune anzugehen. Neue wirtschaftliche Akzente geben bestehenden Unternehmen halt und schaffen Perspektiven für die Zukunft. \nZiel\nIm Workshop zeigen wir gemeinsam erste Schritte zur Gründungs- und Innovationsförderung in Ihrer Kommune auf. Ziel ist es\, dass sie mit einer To-Do Liste\, jeder Menge Ideen und neuen Impulsen nach Hause gehen und wissen\, wo sie anfangen können. \nThemen\nErste Schritte der Gründungs- und Innovationsförderung. \nWas brauchen gründende eigentlich für Unterstützung? \nDie drei Säulen: Räume\, Events\, Plattform \nKonzeptideen und Anwendung Gründungsökosystem-Canvas \nModerator und Referent\nLydia Bremer \nZielgruppe\n(Ober)Bürgermeister:innen\, Wirtschaftsfördernde\, Stadtentwickler:innen \nVorkenntnisse\nKeine Vorkenntnisse nötig. \nTeilnehmerzahl\n3 bis maximal 10 Teilnehmende \nEintritt\nEUR 199\,00 – zzgl. MwSt. \n–> Zur Ticketbuchung <–
URL:https://www.newcities.de/event/gruendungs-und-innovationsfoerderung-in-staedte-und-gemeinden-unter-25-000-einwohnern-2/
CATEGORIES:Online,Workshop
ATTACH;FMTTYPE=image/jpeg:https://www.newcities.de/wp-content/uploads/2021/02/pexels-fauxels-3184292-scaled.jpg
END:VEVENT
BEGIN:VEVENT
DTSTART;VALUE=DATE:20210525
DTEND;VALUE=DATE:20210526
DTSTAMP:20260423T103512
CREATED:20210211T134420Z
LAST-MODIFIED:20210211T134420Z
UID:6272-1621900800-1621987199@www.newcities.de
SUMMARY:Neue Podcastfolge von der Innovationskiste
DESCRIPTION:Es ist wieder so weit. Eine neue Folge der Innovationskiste kommt online.\nInno wer\, Inno was? Die Innovationskiste ist ein Podcast\, prall gefüllt mit wertvollen Methoden\, Strategien und Techniken rund um die Themen Stadtentwicklung und Ideen- und Innovationsmanagement. Die Moderatoren besprechen Herausforderungen und Lösungswege der Kommunalpolitik und diskutieren mit hochkarätigen Gästen über Erfolge und Tiefpunkte rund um das vielschichtige Thema Innovation. \nEinen Überblick über alle bisherigen Folge finden Sie hier.
URL:https://www.newcities.de/event/neue-podcastfolge-von-der-innovationskiste-15/
CATEGORIES:Podcast
END:VEVENT
BEGIN:VEVENT
DTSTART;VALUE=DATE:20210526
DTEND;VALUE=DATE:20210527
DTSTAMP:20260423T103512
CREATED:20210209T122248Z
LAST-MODIFIED:20210211T132104Z
UID:6060-1621987200-1622073599@www.newcities.de
SUMMARY:Veröffentlichung des neuen Magazinbeitrags
DESCRIPTION:Es ist wieder so weit. Ein neuer Magazinbeitrag kommt online.\nIn unserem Community Magazin finden Sie Informationen zu vielen wichtigen und spannenden Themen rund um Kommunen und Zukunftsmanagement. Schauen Sie ihn sich an und lassen Sie sich inspirieren. \nEinen Überblick über alle bisherigen Magazinbeiträge finden Sie hier.
URL:https://www.newcities.de/event/veroeffentlichung-des-neuen-magazinbeitrags-5/
CATEGORIES:Magazinbeitrag
END:VEVENT
END:VCALENDAR