BEGIN:VCALENDAR
VERSION:2.0
PRODID:-//newcities - ECPv5.16.4//NONSGML v1.0//EN
CALSCALE:GREGORIAN
METHOD:PUBLISH
X-ORIGINAL-URL:https://www.newcities.de
X-WR-CALDESC:Veranstaltungen für newcities
REFRESH-INTERVAL;VALUE=DURATION:PT1H
X-Robots-Tag:noindex
X-PUBLISHED-TTL:PT1H
BEGIN:VTIMEZONE
TZID:Europe/Berlin
BEGIN:DAYLIGHT
TZOFFSETFROM:+0100
TZOFFSETTO:+0200
TZNAME:CEST
DTSTART:20210328T010000
END:DAYLIGHT
BEGIN:STANDARD
TZOFFSETFROM:+0200
TZOFFSETTO:+0100
TZNAME:CET
DTSTART:20211031T010000
END:STANDARD
END:VTIMEZONE
BEGIN:VEVENT
DTSTART;TZID=Europe/Berlin:20210624T100000
DTEND;TZID=Europe/Berlin:20210624T120000
DTSTAMP:20260423T103542
CREATED:20210429T160203Z
LAST-MODIFIED:20210429T160203Z
UID:8413-1624528800-1624536000@www.newcities.de
SUMMARY:Gründungs- und Innovationsförderung in Städte und Gemeinden unter 25.000 Einwohnern
DESCRIPTION:–> Zur Ticketbuchung <–\nIn Zeiten von wachsendem wirtschaftlichen Wandlungs- und Transformationsprozessen ist es wichtiger denn je die Themen Gründungsfreundlichkeit und Innovationsförderung als Kommune anzugehen. Neue wirtschaftliche Akzente geben bestehenden Unternehmen halt und schaffen Perspektiven für die Zukunft. \nZiel\nIm Workshop zeigen wir gemeinsam erste Schritte zur Gründungs- und Innovationsförderung in Ihrer Kommune auf. Ziel ist es\, dass sie mit einer To-Do Liste\, jeder Menge Ideen und neuen Impulsen nach Hause gehen und wissen\, wo sie anfangen können. \nThemen\nErste Schritte der Gründungs- und Innovationsförderung. \nWas brauchen gründende eigentlich für Unterstützung? \nDie drei Säulen: Räume\, Events\, Plattform \nKonzeptideen und Anwendung Gründungsökosystem-Canvas \nModerator und Referent\nLydia Bremer \nZielgruppe\n(Ober)Bürgermeister:innen\, Wirtschaftsfördernde\, Stadtentwickler:innen \nVorkenntnisse\nKeine Vorkenntnisse nötig. \nTeilnehmerzahl\n3 bis maximal 10 Teilnehmende \nEintritt\nEUR 199\,00 – zzgl. MwSt. \n–> Zur Ticketbuchung <–
URL:https://www.newcities.de/event/gruendungs-und-innovationsfoerderung-in-staedte-und-gemeinden-unter-25-000-einwohnern-3/
LOCATION:Online via Zoom
CATEGORIES:Online,Workshop
ATTACH;FMTTYPE=image/jpeg:https://www.newcities.de/wp-content/uploads/2021/02/pexels-fauxels-3184292-scaled.jpg
END:VEVENT
BEGIN:VEVENT
DTSTART;TZID=Europe/Berlin:20210624T100000
DTEND;TZID=Europe/Berlin:20210624T120000
DTSTAMP:20260423T103542
CREATED:20210429T162040Z
LAST-MODIFIED:20210429T162040Z
UID:8425-1624528800-1624536000@www.newcities.de
SUMMARY:Onlineworkshop: What the fuck is „Lebensqualität“? - Bedürfnisse und Bedarfe der BürgerInnen begreifen
DESCRIPTION:–> Zur Ticketbuchung <–\nEine „hohe Lebensqualität“ ist der Wunsch der meisten BürgerInnen und das Ziel der meisten Gemeinderäte\, Verwaltungen und BürgermeisterInnen. Wie sieht hohe Lebensqualität aber aus? Jede Stadt und jede Gemeinde muss zu einer eigenen Definition und vor allem zu einer eigenen Konkretisierung dieser Definition finden. Das kann sowohl im Rahmen eines allgemeinen Strategieprozesses als auch bezogen auf einzelne Themen und Projekte erfolgen. Wichtig ist immer die passende Einbeziehung von BürgerInnen und Interessengruppen. \nZiel\nIm kompakten Onlineworkshop finden wir Lösungen und Vorgehensweisen\, um die Lebensqualität in Ihrer Kommune gemeinsam mit Ihren Bürger:innen zu thematisieren\, zu konkretisieren und zu verbessern. \nThemen\nWelche Lebensqualität wollen meine Bürger:innen eigentlich? \nWie kann ich konkrete Maßnahmen zur Verbesserung der Lebensqualität am besten anstoßen? \nGibt es einen größeren Rahmen\, in dem ich Lebensqualität thematisieren kann? \nModerator und Referent\nMoritz Meidert \nZielgruppe\n(Ober)Bürgermeister:innen\, Wirtschaftsfördernde\, Stadtentwickler:innen \nVorkenntnisse\nKeine Vorkenntnisse nötig. \nTeilnehmerzahl\n3 bis maximal 10 Teilnehmende \nEintritt\nEUR 199\,00 – zzgl. MwSt. \n–> Zur Ticketbuchung <–
URL:https://www.newcities.de/event/onlineworkshop-what-the-fuck-is-lebensqualitaet-beduerfnisse-und-bedarfe-der-buergerinnen-begreifen/
LOCATION:Online via Zoom
CATEGORIES:Online,Workshop
ATTACH;FMTTYPE=image/jpeg:https://www.newcities.de/wp-content/uploads/2020/11/hands-1947915-scaled-e1613561372731.jpg
END:VEVENT
END:VCALENDAR