BEGIN:VCALENDAR
VERSION:2.0
PRODID:-//newcities - ECPv5.16.4//NONSGML v1.0//EN
CALSCALE:GREGORIAN
METHOD:PUBLISH
X-WR-CALNAME:newcities
X-ORIGINAL-URL:https://www.newcities.de
X-WR-CALDESC:Veranstaltungen für newcities
REFRESH-INTERVAL;VALUE=DURATION:PT1H
X-Robots-Tag:noindex
X-PUBLISHED-TTL:PT1H
BEGIN:VTIMEZONE
TZID:Europe/Berlin
BEGIN:DAYLIGHT
TZOFFSETFROM:+0100
TZOFFSETTO:+0200
TZNAME:CEST
DTSTART:20210328T010000
END:DAYLIGHT
BEGIN:STANDARD
TZOFFSETFROM:+0200
TZOFFSETTO:+0100
TZNAME:CET
DTSTART:20211031T010000
END:STANDARD
END:VTIMEZONE
BEGIN:VEVENT
DTSTART;VALUE=DATE:20210512
DTEND;VALUE=DATE:20210513
DTSTAMP:20260421T122158
CREATED:20210209T121948Z
LAST-MODIFIED:20210211T132032Z
UID:6058-1620777600-1620863999@www.newcities.de
SUMMARY:Veröffentlichung des neuen Magazinbeitrags
DESCRIPTION:Es ist wieder so weit. Ein neuer Magazinbeitrag kommt online.\nIn unserem Community Magazin finden Sie Informationen zu vielen wichtigen und spannenden Themen rund um Kommunen und Zukunftsmanagement. Schauen Sie ihn sich an und lassen Sie sich inspirieren. \nEinen Überblick über alle bisherigen Magazinbeiträge finden Sie hier.
URL:https://www.newcities.de/event/veroeffentlichung-des-neuen-magazinbeitrags-4/
CATEGORIES:Magazinbeitrag
END:VEVENT
END:VCALENDAR